BEGIN:VCALENDAR
VERSION:2.0
PRODID:-//185.125.27.44//NONSGML kigkonsult.se iCalcreator 2.20//
CALSCALE:GREGORIAN
METHOD:PUBLISH
X-WR-TIMEZONE:UTC
BEGIN:VEVENT
UID:event6@Nobels
DTSTAMP:20260419T123943Z
CATEGORIES:LIVE
DESCRIPTION:LIVE AL HOLLYWOOD\nCategoria: LIVE\nLink: https://nobels.chiodo
 nitest.ch/index.php?option=com_jem&view=event&id=6:live-al-hollywood\n
DTSTART:20251220T210000
DTEND:20251220T210000
LOCATION:HOLLYWOOD\,VIA GIUSEPPE BAGUTTI\, 14\,CH-6900 LUGANO
SUMMARY:LIVE AL HOLLYWOOD
URL:https://nobels.chiodonitest.ch/index.php?option=com_jem&view=event&id=6
 :live-al-hollywood
END:VEVENT
END:VCALENDAR