BEGIN:VCALENDAR
VERSION:2.0
PRODID:-//185.125.27.44//NONSGML kigkonsult.se iCalcreator 2.20//
CALSCALE:GREGORIAN
METHOD:PUBLISH
X-WR-TIMEZONE:UTC
BEGIN:VEVENT
UID:event3@Nobels
DTSTAMP:20260421T082117Z
CATEGORIES:LIVE
DESCRIPTION:LIVE AL IRISH PUB - TESSERETE\nCategoria: LIVE\nLink: https://n
 obels.chiodonitest.ch/index.php?option=com_jem&view=event&id=3:live-al-iri
 sh-pub-tesserete\n
DTSTART:20251107T210000
DTEND:20251108T003000
SUMMARY:LIVE AL IRISH PUB - TESSERETE
URL:https://nobels.chiodonitest.ch/index.php?option=com_jem&view=event&id=3
 :live-al-irish-pub-tesserete
END:VEVENT
END:VCALENDAR