BEGIN:VCALENDAR
VERSION:2.0
PRODID:-//185.125.27.44//NONSGML kigkonsult.se iCalcreator 2.20//
CALSCALE:GREGORIAN
METHOD:PUBLISH
X-WR-TIMEZONE:UTC
BEGIN:VEVENT
UID:event1@Nobels
DTSTAMP:20260419T123755Z
CATEGORIES:LIVE
DESCRIPTION:LIVE AL BITTER\nCategoria: LIVE\nLink: https://nobels.chiodonit
 est.ch/index.php?option=com_jem&view=event&id=1:live-al-bitter\n
DTSTART:20251031T210000
DTEND:20251031T233000
LOCATION:BITTER PUB\,VIALE DANTE ALIGHIERI\, 33\,21016 LUINO (VA)
SUMMARY:LIVE AL BITTER
URL:https://nobels.chiodonitest.ch/index.php?option=com_jem&view=event&id=1
 :live-al-bitter
END:VEVENT
END:VCALENDAR